BEGIN:VCALENDAR
PRODID:-//kirchenweb.ch gmbh//veranstaltungsausgabe v2.0//DE
VERSION:2.0
METHOD:PUBLISH
BEGIN:VEVENT
DTSTART:20250617T173000Z
DTEND:20250617T215900Z
LOCATION:Evang.-ref. Kirche St. Laurenzen\, Marktgasse 25\, 9000 St.
  Gallen
TRANSP:OPAQUE
SEQUENCE:0
UID:21219-veranstaltung@ref-sgc.ch
DTSTAMP:20250604T143535Z
DESCRIPTION:New Orleans Gottesdienst\n\n19.30 Uhr öffentliche Hauptprobe
 \n23.15 Uhr Gottesdienst\n\nRock My Soul\nAm beliebten New Orleans Jazz
  Festival rockt die Kirche St. Laurenzen:\nMit Malcolm Green\, Voica and
  Sax\, Marcel Schefer\, Piano\, Marc Oxendine\, Bass\, Markus Brechbühl\,
  Drums und Pfrn. Kathrin Bolt\, Text\n\nKontakt: Bea Känel\n\nWeitere
  Infos: https://www.ref-sgc.ch/veranstaltung/21219
SUMMARY:New Orleans Church service
PRIORITY:5
X-MICROSOFT-CDO-IMPORTANCE:1
CLASS:PUBLIC
END:VEVENT
END:VCALENDAR
