BEGIN:VCALENDAR
PRODID:-//kirchenweb.ch gmbh//veranstaltungsausgabe v2.0//DE
VERSION:2.0
METHOD:PUBLISH
BEGIN:VEVENT
DTSTART:20230212T090000Z
DTEND:20230212T100000Z
LOCATION:Kirche Riethüsli\, Gerhardtstrasse 11\, 9012 St. Gallen
TRANSP:OPAQUE
SEQUENCE:0
UID:14305-veranstaltung@ref-sgc.ch
DTSTAMP:20230207T140946Z
DESCRIPTION:Kontakt: Diakon Daniel Bertoldo\n\nWeitere Infos:
  https://www.ref-sgc.ch/veranstaltung/14305
SUMMARY:Der Andere Gottesdienst Riethüsli
PRIORITY:5
X-MICROSOFT-CDO-IMPORTANCE:1
CLASS:PUBLIC
END:VEVENT
END:VCALENDAR
