BEGIN:VCALENDAR
PRODID:-//kirchenweb.ch gmbh//veranstaltungsausgabe v2.0//DE
VERSION:2.0
METHOD:PUBLISH
BEGIN:VEVENT
DTSTART:20230101T160000Z
DTEND:20230101T170000Z
LOCATION:Kirche Riethüsli\, Gerhardtstrasse 11\, 9012 St. Gallen
TRANSP:OPAQUE
SEQUENCE:0
UID:14212-veranstaltung@ref-sgc.ch
DTSTAMP:20221118T115034Z
DESCRIPTION:Kath. Gottesdienst zum Neujahr mit Apéro\nMusikalische
  Begleitung: Emanuel Rütsche\n\nKontakt: Pfrn. Elisabeth Weber\n\nWeitere
  Infos: https://www.ref-sgc.ch/veranstaltung/14212
SUMMARY:Kath. Gottesdienst zum Neujahr
PRIORITY:5
X-MICROSOFT-CDO-IMPORTANCE:1
CLASS:PUBLIC
END:VEVENT
END:VCALENDAR
