BEGIN:VCALENDAR
PRODID:-//kirchenweb.ch gmbh//veranstaltungsausgabe v2.0//DE
VERSION:2.0
METHOD:PUBLISH
BEGIN:VEVENT
DTSTART:20230122T090000Z
DTEND:20230122T100000Z
LOCATION:Kirche Riethüsli\, Gerhardtstrasse 11\, 9012 St. Gallen
TRANSP:OPAQUE
SEQUENCE:0
UID:14193-veranstaltung@ref-sgc.ch
DTSTAMP:20230117T093709Z
DESCRIPTION:Dialogpredigt mit Kirchenvorsteherschaftspräsident A. Xanthis
 \nAnschliessend «drink and church» - Apéro mit H. Korsch und Team\n
 \nKontakt: Pfrn. Elisabeth Weber\n\nWeitere Infos:
  https://www.ref-sgc.ch/veranstaltung/14193
SUMMARY:Gottesdienst Riethüsli
PRIORITY:5
X-MICROSOFT-CDO-IMPORTANCE:1
CLASS:PUBLIC
END:VEVENT
END:VCALENDAR
