BEGIN:VCALENDAR
PRODID:-//kirchenweb.ch gmbh//veranstaltungsausgabe v2.0//DE
VERSION:2.0
METHOD:PUBLISH
BEGIN:VEVENT
DTSTART:20221214T110000Z
DTEND:20221214T120000Z
LOCATION:Kirche Riethüsli\, Gerhardtstrasse 11\, 9012 St. Gallen
TRANSP:OPAQUE
SEQUENCE:0
UID:11442-veranstaltung@ref-sgc.ch
DTSTAMP:20220508T105137Z
DESCRIPTION:Anmeldung bei Susanne und Beat Studer bis Montagmittag\n071
  278 56 39\n\nKontakt: Susanne Studer\n\nWeitere Infos:
  https://www.ref-sgc.ch/veranstaltung/11442
SUMMARY:Mittagstisch
PRIORITY:5
X-MICROSOFT-CDO-IMPORTANCE:1
CLASS:PUBLIC
END:VEVENT
END:VCALENDAR
