BEGIN:VCALENDAR
PRODID:-//kirchenweb.ch gmbh//veranstaltungsausgabe v2.0//DE
VERSION:2.0
METHOD:PUBLISH
BEGIN:VEVENT
DTSTART:20221207T160000Z
DTEND:20221207T170000Z
LOCATION:Kirche Riethüsli\, Gerhardtstrasse 11\, 9012 St. Gallen
TRANSP:OPAQUE
SEQUENCE:0
UID:11409-veranstaltung@ref-sgc.ch
DTSTAMP:20221116T085841Z
DESCRIPTION:Kontakt: B. Stump\n\nWeitere Infos:
  https://www.ref-sgc.ch/veranstaltung/11409
SUMMARY:Geschichte am Feuer
PRIORITY:5
X-MICROSOFT-CDO-IMPORTANCE:1
CLASS:PUBLIC
END:VEVENT
END:VCALENDAR
