BEGIN:VCALENDAR
PRODID:-//kirchenweb.ch gmbh//veranstaltungsausgabe v2.0//DE
VERSION:2.0
METHOD:PUBLISH
BEGIN:VEVENT
DTSTART:20230106T153000Z
DTEND:20230106T160000Z
LOCATION:Kirche Riethüsli\, Gerhardtstrasse 11\, 9012 St. Gallen
TRANSP:OPAQUE
SEQUENCE:0
UID:11403-veranstaltung@ref-sgc.ch
DTSTAMP:20220429T145041Z
DESCRIPTION:Kontakt: Pfrn. Elisabeth Weber\n\nWeitere Infos:
  https://www.ref-sgc.ch/veranstaltung/11403
SUMMARY:Kinderfeier
PRIORITY:5
X-MICROSOFT-CDO-IMPORTANCE:1
CLASS:PUBLIC
END:VEVENT
END:VCALENDAR
