BEGIN:VCALENDAR
PRODID:-//kirchenweb.ch gmbh//veranstaltungsausgabe v2.0//DE
VERSION:2.0
METHOD:PUBLISH
BEGIN:VEVENT
DTSTART:20230125T130000Z
DTEND:20230125T160000Z
LOCATION:Kirche Riethüsli\, Gerhardtstrasse 11\, 9012 St. Gallen
TRANSP:OPAQUE
SEQUENCE:0
UID:11401-veranstaltung@ref-sgc.ch
DTSTAMP:20221127T151652Z
DESCRIPTION:Freizeitangebot für Kinder von 4 - 12 Jahren. Ein Treffpunkt
  für Gross und Klein zum Verweilen\, Spielen\, kreativ sein.\n\nKontakt:
  Barbara Stump und Mirjam Schoch Sgier\n\nWeitere Infos:
  https://www.ref-sgc.ch/veranstaltung/11401
SUMMARY:Sunnestrahl Riethüsli
PRIORITY:5
X-MICROSOFT-CDO-IMPORTANCE:1
CLASS:PUBLIC
END:VEVENT
END:VCALENDAR
