BEGIN:VCALENDAR
PRODID:-//kirchenweb.ch gmbh//veranstaltungsausgabe v2.0//DE
VERSION:2.0
METHOD:PUBLISH
BEGIN:VEVENT
DTSTART:20221221T130000Z
DTEND:20221221T160000Z
LOCATION:Kirche Riethüsli\, Gerhardtstrasse 11\, 9012 St. Gallen
TRANSP:OPAQUE
SEQUENCE:0
UID:11400-veranstaltung@ref-sgc.ch
DTSTAMP:20221127T151614Z
DESCRIPTION:Der Sunnestrahl feiert Waldweihnacht ab 17 Uhr im Wald mit
  Weihnachtsbaum\, Lieder und Suppe. Vorgängige Anmeldung bitte bei Mirjam
  Schoch-Sgier.\nmirjam.schoch@ref-sgc.ch\n\nKontakt: Barbara Stump und
  Mirjam Schoch Sgier\n\nWeitere Infos:
  https://www.ref-sgc.ch/veranstaltung/11400
SUMMARY:Sunnestrahl Riethüsli Waldweihnachten
PRIORITY:5
X-MICROSOFT-CDO-IMPORTANCE:1
CLASS:PUBLIC
END:VEVENT
END:VCALENDAR
