BEGIN:VCALENDAR
PRODID:-//kirchenweb.ch gmbh//veranstaltungsausgabe v2.0//DE
VERSION:2.0
METHOD:PUBLISH
BEGIN:VEVENT
DTSTART:20221130T130000Z
DTEND:20221130T160000Z
LOCATION:Kirche Riethüsli\, Gerhardtstrasse 11\, 9012 St. Gallen
TRANSP:OPAQUE
SEQUENCE:0
UID:11398-veranstaltung@ref-sgc.ch
DTSTAMP:20221121T095927Z
DESCRIPTION:Freizeitangebot für Kinder von 4 - 12 Jahren. Ein Treffpunkt
  für Gross und Klein zum Verweilen\, Spielen\, kreativ sein.\n\nKontakt:
  Barbara Stump und Mirjam Schoch Sgier\n\nWeitere Infos:
  https://www.ref-sgc.ch/veranstaltung/11398
SUMMARY:Sunnestrahl Riethüsli - Waldnachmittag
PRIORITY:5
X-MICROSOFT-CDO-IMPORTANCE:1
CLASS:PUBLIC
END:VEVENT
END:VCALENDAR
