BEGIN:VCALENDAR
PRODID:-//kirchenweb.ch gmbh//veranstaltungsausgabe v2.0//DE
VERSION:2.0
METHOD:PUBLISH
BEGIN:VEVENT
DTSTART:20230210T142000Z
DTEND:20230210T160000Z
LOCATION:Kirche Riethüsli\, Gerhardtstrasse 11\, 9012 St. Gallen
TRANSP:OPAQUE
SEQUENCE:0
UID:11361-veranstaltung@ref-sgc.ch
DTSTAMP:20220425T175542Z
DESCRIPTION:Kontakt: C. Kuenzle\n\nWeitere Infos:
  https://www.ref-sgc.ch/veranstaltung/11361
SUMMARY:Kinderkaffee
PRIORITY:5
X-MICROSOFT-CDO-IMPORTANCE:1
CLASS:PUBLIC
END:VEVENT
END:VCALENDAR
