BEGIN:VCALENDAR
PRODID:-//kirchenweb.ch gmbh//veranstaltungsausgabe v2.0//DE
VERSION:2.0
METHOD:PUBLISH
BEGIN:VEVENT
DTSTART:20221224T140000Z
DTEND:20221224T150000Z
LOCATION:Kirche Riethüsli\, Gerhardtstrasse 11\, 9012 St. Gallen
TRANSP:OPAQUE
SEQUENCE:0
UID:11353-veranstaltung@ref-sgc.ch
DTSTAMP:20221116T085126Z
DESCRIPTION:15 Uhr: Eintreffen mit Tee und Zvieri in der Pfarrstube\n15.30
  Uhr: Beginn Stationenweg im Freien\n16.30 Uhr: Kirche Riethüsli\, Feier
  mit Friedenslichtübergabe\n\nKontakt: Simeon Bertoldo\n\nWeitere Infos:
  https://www.ref-sgc.ch/veranstaltung/11353
SUMMARY:Stationenweg mit Weihnachtsgeschichte
PRIORITY:5
X-MICROSOFT-CDO-IMPORTANCE:1
CLASS:PUBLIC
END:VEVENT
END:VCALENDAR
