BEGIN:VCALENDAR
PRODID:-//kirchenweb.ch gmbh//veranstaltungsausgabe v2.0//DE
VERSION:2.0
METHOD:PUBLISH
BEGIN:VEVENT
DTSTART:20221127T160000Z
DTEND:20221127T170000Z
LOCATION:Berneggwald\, \,
TRANSP:OPAQUE
SEQUENCE:0
UID:11352-veranstaltung@ref-sgc.ch
DTSTAMP:20220425T174400Z
DESCRIPTION:Kontakt: monika.nieuwenhout@ref-sgc.ch\n\nWeitere Infos:
  https://www.ref-sgc.ch/veranstaltung/11352
SUMMARY:Adventsbeleuchtung
PRIORITY:5
X-MICROSOFT-CDO-IMPORTANCE:1
CLASS:PUBLIC
END:VEVENT
END:VCALENDAR
