BEGIN:VCALENDAR
PRODID:-//kirchenweb.ch gmbh//veranstaltungsausgabe v2.0//DE
VERSION:2.0
METHOD:PUBLISH
BEGIN:VEVENT
DTSTART:20221225T090000Z
DTEND:20221225T100000Z
LOCATION:Kirche Riethüsli\, Gerhardtstrasse 11\, 9012 St. Gallen
TRANSP:OPAQUE
SEQUENCE:0
UID:10481-veranstaltung@ref-sgc.ch
DTSTAMP:20221116T085447Z
DESCRIPTION:Kontakt: Pfrn. Elisabeth Weber\n\nWeitere Infos:
  https://www.ref-sgc.ch/veranstaltung/10481
SUMMARY:Weihnachts-Gottesdienst mit Abendmahl
PRIORITY:5
X-MICROSOFT-CDO-IMPORTANCE:1
CLASS:PUBLIC
END:VEVENT
END:VCALENDAR
