BEGIN:VCALENDAR
PRODID:-//kirchenweb.ch gmbh//veranstaltungsausgabe v2.0//DE
VERSION:2.0
METHOD:PUBLISH
BEGIN:VEVENT
DTSTART:20221127T090000Z
DTEND:20221127T100000Z
LOCATION:Kirche Riethüsli\, Gerhardtstrasse 11\, 9012 St. Gallen
TRANSP:OPAQUE
SEQUENCE:0
UID:10480-veranstaltung@ref-sgc.ch
DTSTAMP:20220130T130352Z
DESCRIPTION:Kontakt: Pfrn. Elisabeth Weber\n\nWeitere Infos:
  https://www.ref-sgc.ch/veranstaltung/10480
SUMMARY:Gottesdienst Riethüsli
PRIORITY:5
X-MICROSOFT-CDO-IMPORTANCE:1
CLASS:PUBLIC
END:VEVENT
END:VCALENDAR
